BEGIN:VCALENDAR
VERSION:2.0
PRODID:-//SP rechtes Thunerseeufer - ECPv6.15.20//NONSGML v1.0//EN
CALSCALE:GREGORIAN
METHOD:PUBLISH
X-WR-CALNAME:SP rechtes Thunerseeufer
X-ORIGINAL-URL:https://sp-rtu.ch
X-WR-CALDESC:Veranstaltungen im SP rechtes Thunerseeufer
REFRESH-INTERVAL;VALUE=DURATION:PT1H
X-Robots-Tag:noindex
X-PUBLISHED-TTL:PT1H
BEGIN:VTIMEZONE
TZID:Europe/Zurich
BEGIN:DAYLIGHT
TZOFFSETFROM:+0100
TZOFFSETTO:+0200
TZNAME:CEST
DTSTART:20250330T010000
END:DAYLIGHT
BEGIN:STANDARD
TZOFFSETFROM:+0200
TZOFFSETTO:+0100
TZNAME:CET
DTSTART:20251026T010000
END:STANDARD
BEGIN:DAYLIGHT
TZOFFSETFROM:+0100
TZOFFSETTO:+0200
TZNAME:CEST
DTSTART:20260329T010000
END:DAYLIGHT
BEGIN:STANDARD
TZOFFSETFROM:+0200
TZOFFSETTO:+0100
TZNAME:CET
DTSTART:20261025T010000
END:STANDARD
BEGIN:DAYLIGHT
TZOFFSETFROM:+0100
TZOFFSETTO:+0200
TZNAME:CEST
DTSTART:20270328T010000
END:DAYLIGHT
BEGIN:STANDARD
TZOFFSETFROM:+0200
TZOFFSETTO:+0100
TZNAME:CET
DTSTART:20271031T010000
END:STANDARD
END:VTIMEZONE
BEGIN:VEVENT
DTSTART;TZID=Europe/Zurich:20260520T184500
DTEND;TZID=Europe/Zurich:20260520T210000
DTSTAMP:20260424T203918
CREATED:20260109T152344Z
LAST-MODIFIED:20260109T152344Z
UID:89306-1779302700-1779310800@sp-rtu.ch
SUMMARY:Vorstandssitzung SP RTU
DESCRIPTION:
URL:https://sp-rtu.ch/veranstaltung/vorstandssitzung-sp-rtu-9/
LOCATION:Schönbergstrasse\, Gunten\, Schönbergstrasse 11\, Gunten\, 3654\, Switzerland
CATEGORIES:Sitzung
END:VEVENT
END:VCALENDAR